BEGIN:VCALENDAR
VERSION:2.0
PRODID:-//Tukios.com/
BEGIN:VEVENT
UID:7063e101-1399-4d6a-8ff1-c26e74e83d37@www.schillingfuneralhome.com
DTSTAMP:20260425T220341Z
DTSTART:20260430T160000Z
DTEND:20260430T164500Z
SUMMARY:Mass
DESCRIPTION:
URL:https://www.schillingfuneralhome.com/obituaries/juana-cervantes
LOCATION: 509 Avenue B  Sterling IL 61081
GEO:41.7907382;-89.6992629
END:VEVENT
END:VCALENDAR