BEGIN:VCALENDAR
VERSION:2.0
PRODID:-//Tukios.com/
BEGIN:VEVENT
UID:feab72df-56f5-49ef-9005-e3b0ac7e88cd@www.schillingfuneralhome.com
DTSTAMP:20260425T220218Z
DTSTART:20260430T150000Z
DTEND:20260430T160000Z
SUMMARY:Visitation
DESCRIPTION:
URL:https://www.schillingfuneralhome.com/obituaries/juana-cervantes
LOCATION: 509 Avenue B  Sterling IL 61081
GEO:41.7907382;-89.6992629
END:VEVENT
END:VCALENDAR