BEGIN:VCALENDAR
VERSION:2.0
PRODID:-//Tukios.com/
BEGIN:VEVENT
UID:37b9221a-d005-4b75-a724-1f0089cf0e55@www.schillingfuneralhome.com
DTSTAMP:20260425T220255Z
DTSTART:20260430T164500Z
DTEND:20260430T170000Z
SUMMARY:Graveside Service
DESCRIPTION:
URL:https://www.schillingfuneralhome.com/obituaries/juana-cervantes
LOCATION: 2102 East Le Fevre Road  Sterling IL 61081
GEO:41.8026365;-89.6724192
END:VEVENT
END:VCALENDAR