BEGIN:VCALENDAR
VERSION:2.0
PRODID:-//Tukios.com/
BEGIN:VEVENT
UID:5a2504bf-d370-47b9-b6e9-513d0e1fbada@www.schillingfuneralhome.com
DTSTAMP:20260422T211622Z
DTSTART:20260502T140000Z
DTEND:20260502T150000Z
SUMMARY:Visitation
DESCRIPTION:
URL:https://www.schillingfuneralhome.com/obituaries/louis-johnson
LOCATION: 702 1st Ave.  Sterling IL 61081
GEO:41.7924037;-89.6961017
END:VEVENT
END:VCALENDAR