BEGIN:VCALENDAR
VERSION:2.0
PRODID:-//Tukios.com/
BEGIN:VEVENT
UID:02569843-bae0-4ecf-a255-8cdf157e86db@www.schillingfuneralhome.com
DTSTAMP:20260422T211445Z
DTSTART:20260502T150000Z
DTEND:20260502T160000Z
SUMMARY:Funeral Service
DESCRIPTION:
URL:https://www.schillingfuneralhome.com/obituaries/louis-johnson
LOCATION: 702 1st Ave.  Sterling IL 61081
GEO:41.7924037;-89.6961017
END:VEVENT
END:VCALENDAR