BEGIN:VCALENDAR
VERSION:2.0
PRODID:-//Tukios.com/
BEGIN:VEVENT
UID:c2d0808b-e457-4e64-b620-b267edde573a@www.schillingfuneralhome.com
DTSTAMP:20260422T211311Z
DTSTART:20260502T161500Z
DTEND:20260502T164500Z
SUMMARY:Burial
DESCRIPTION:
URL:https://www.schillingfuneralhome.com/obituaries/louis-johnson
LOCATION: 1906 East 3rd Street  Sterling IL 61081
GEO:41.7974342;-89.6720862
END:VEVENT
END:VCALENDAR